BEGIN:VCALENDAR
VERSION:2.0
PRODID:-//Tukios.com/
BEGIN:VEVENT
UID:a3cdcecc-b36f-420b-b6ae-597f1747f528@www.bealfuneralhomes.com
DTSTAMP:20260424T101556Z
DTSTART:20260502
SUMMARY:Burial
DESCRIPTION:Graveside Service following funeral service at Cornerstone 
	Lutheran Church.
URL:https://www.bealfuneralhomes.com/obituaries/daniel-freitag
LOCATION: County Rd. D & Doyle Rd.  Monticello WI 53570
GEO:42.7845253;-89.5159296
END:VEVENT
END:VCALENDAR