BEGIN:VCALENDAR
VERSION:2.0
PRODID:-//Tukios.com/
BEGIN:VEVENT
UID:06016d65-a787-47e8-9ebb-2be2af6529b5@www.bealfuneralhomes.com
DTSTAMP:20260424T101708Z
DTSTART:20260502T170000Z
DTEND:20260502T180000Z
SUMMARY:Funeral Service
DESCRIPTION:
URL:https://www.bealfuneralhomes.com/obituaries/daniel-freitag
LOCATION:Cornerstone Lutheran Church 1540 Old Highway 81  Argyle WI 53504
GEO:42.6942554;-89.8482413
END:VEVENT
END:VCALENDAR