BEGIN:VCALENDAR
VERSION:2.0
PRODID:-//Tukios.com/
BEGIN:VEVENT
UID:b865fd24-016f-4f2e-a4f8-771805f83abc@www.bealfuneralhomes.com
DTSTAMP:20260424T101744Z
DTSTART:20260502T150000Z
DTEND:20260502T170000Z
SUMMARY:Visitation
DESCRIPTION:
URL:https://www.bealfuneralhomes.com/obituaries/daniel-freitag
LOCATION:Cornerstone Lutheran Church 1540 Old Highway 81  Argyle WI 53504
GEO:42.6942554;-89.8482413
END:VEVENT
END:VCALENDAR